BEGIN:VCALENDAR
PRODID:-//eluceo/ical//2.0/EN
VERSION:2.0
CALSCALE:GREGORIAN
BEGIN:VEVENT
UID:e85f5680da60178bbb286852e21e6ec0
DTSTAMP:20260424T100251Z
SUMMARY:Kärnkraft - små modulära reaktorer
DESCRIPTION:
URL:https://goteborg-majorna-frolunda.rotaryklubb.org/en/agenda/show/218449
DTSTART;TZID=Europe/Zurich:20260525T123000
DTEND;TZID=Europe/Zurich:20260525T133000
LOCATION:Villa BelParc\, Slottsskogen\, A O Elliots v. 10\, 413 11 Götebor
 g\, Sverige
CATEGORIES:Rotary
END:VEVENT
BEGIN:VTIMEZONE
TZID:Europe/Zurich
BEGIN:DAYLIGHT
DTSTART:20260525T123000
TZNAME:CEST
TZOFFSETTO:+0200
TZOFFSETFROM:+0200
END:DAYLIGHT
END:VTIMEZONE
END:VCALENDAR
